BEGIN:VCALENDAR
PRODID:-//AT Content Types//AT Event//EN
VERSION:2.0
METHOD:PUBLISH
BEGIN:VEVENT
DTSTAMP:20260420T204338Z
CREATED:20070504T151320Z
UID:ATEvent-4a01c0bd1aaec888925e38219541b266
LAST-MODIFIED:20090306T103124Z
SUMMARY:Test Event
DTSTART:20070507T060000Z
DTEND:20070507T143000Z
LOCATION:Latvia
CLASS:PUBLIC
END:VEVENT
END:VCALENDAR
